BEGIN:VCALENDAR
VERSION:2.0
PRODID:-//PYVOBJECT//NONSGML Version 0.9.9//EN
BEGIN:VTIMEZONE
TZID:CET
BEGIN:STANDARD
DTSTART:20001029T040000
RRULE:FREQ=YEARLY;BYDAY=-1SU;BYMONTH=10
TZNAME:CET
TZOFFSETFROM:+0200
TZOFFSETTO:+0100
END:STANDARD
BEGIN:DAYLIGHT
DTSTART:20000326T030000
RRULE:FREQ=YEARLY;BYDAY=-1SU;BYMONTH=3
TZNAME:CEST
TZOFFSETFROM:+0100
TZOFFSETTO:+0200
END:DAYLIGHT
END:VTIMEZONE
BEGIN:VEVENT
UID:event-17
DTSTART;TZID=CET:20180706T100000
DTEND;TZID=CET:20180706T163000
DESCRIPTION:Case-Interview-Training - Sonstiges
DTSTAMP:20260421T134529Z
GEO:52.520007,13.404954
LOCATION:Sonstiges\, Sonstiges Berlin
SUMMARY:Case-Interview-Training
URL:https://vsa-freiheit.org/events/17/
END:VEVENT
END:VCALENDAR
