BEGIN:VCALENDAR
VERSION:2.0
PRODID:-//PYVOBJECT//NONSGML Version 0.9.9//EN
BEGIN:VTIMEZONE
TZID:CET
BEGIN:STANDARD
DTSTART:20001029T040000
RRULE:FREQ=YEARLY;BYDAY=-1SU;BYMONTH=10
TZNAME:CET
TZOFFSETFROM:+0200
TZOFFSETTO:+0100
END:STANDARD
BEGIN:DAYLIGHT
DTSTART:20000326T030000
RRULE:FREQ=YEARLY;BYDAY=-1SU;BYMONTH=3
TZNAME:CEST
TZOFFSETFROM:+0100
TZOFFSETTO:+0200
END:DAYLIGHT
END:VTIMEZONE
BEGIN:VEVENT
UID:event-545
DTSTART;TZID=CET:20231020T180000
DTEND;TZID=CET:20231022T140000
DESCRIPTION:VSA-Konvent 2023 "Mein Netzwerk\, mein Erfolg: Die Macht der Be
 ziehung" - Veranstaltung
DTSTAMP:20260419T124339Z
GEO:
LOCATION:Theodor-Heuss-Straße 26\, 51645 Gummersbach
SUMMARY:VSA-Konvent 2023 "Mein Netzwerk\, mein Erfolg: Die Macht der Bezieh
 ung"
URL:https://vsa-freiheit.org/events/545/
END:VEVENT
END:VCALENDAR
