BEGIN:VCALENDAR
VERSION:2.0
PRODID:-//PYVOBJECT//NONSGML Version 0.9.9//EN
BEGIN:VTIMEZONE
TZID:CET
BEGIN:STANDARD
DTSTART:20001029T040000
RRULE:FREQ=YEARLY;BYDAY=-1SU;BYMONTH=10
TZNAME:CET
TZOFFSETFROM:+0200
TZOFFSETTO:+0100
END:STANDARD
BEGIN:DAYLIGHT
DTSTART:20000326T030000
RRULE:FREQ=YEARLY;BYDAY=-1SU;BYMONTH=3
TZNAME:CEST
TZOFFSETFROM:+0100
TZOFFSETTO:+0200
END:DAYLIGHT
END:VTIMEZONE
BEGIN:VEVENT
UID:event-668
DTSTART;TZID=CET:20250810T183000
DTEND;TZID=CET:20250810T203000
DESCRIPTION:Gemeinsam Bouldern in Berlin | Jeder kann Bouldern :) ✨ - Ver
 anstaltung
DTSTAMP:20260422T193240Z
GEO:52.4818069,13.3658349
LOCATION:Wilhelm-Kabus-Straße 40\, 10829 Berlin
SUMMARY:Gemeinsam Bouldern in Berlin | Jeder kann Bouldern :) ✨
URL:https://vsa-freiheit.org/events/668/
END:VEVENT
END:VCALENDAR
