BEGIN:VCALENDAR
VERSION:2.0
PRODID:-//PYVOBJECT//NONSGML Version 0.9.9//EN
BEGIN:VTIMEZONE
TZID:CET
BEGIN:STANDARD
DTSTART:20001029T040000
RRULE:FREQ=YEARLY;BYDAY=-1SU;BYMONTH=10
TZNAME:CET
TZOFFSETFROM:+0200
TZOFFSETTO:+0100
END:STANDARD
BEGIN:DAYLIGHT
DTSTART:20000326T030000
RRULE:FREQ=YEARLY;BYDAY=-1SU;BYMONTH=3
TZNAME:CEST
TZOFFSETFROM:+0100
TZOFFSETTO:+0200
END:DAYLIGHT
END:VTIMEZONE
BEGIN:VEVENT
UID:event-671
DTSTART;TZID=CET:20250305T190000
DTEND;TZID=CET:20250305T200000
DESCRIPTION:Ökologische Marktwirtschaft: Aktueller denn je? - Vortrag
DTSTAMP:20260422T222712Z
LOCATION:Ökologische Marktwirtschaft - aktueller denn je? \nMittwoch\, 5. 
 März · 7:00 bis 8:00PM\nZeitzone: Europe/Berlin\nGoogle Meet-Teilnahmein
 formationen\nLink für Videoanruf: https://meet.google.com/skh-mkpx-cet\nO
 der telefonisch: ‪(DE) +49 40 8081615859‬ PIN: ‪811 217 102‬#\nWei
 tere Telefonnummern: https://tel.meet/skh-mkpx-cet?pin=1575238673348
SUMMARY:Ökologische Marktwirtschaft: Aktueller denn je?
URL:https://vsa-freiheit.org/events/671/
END:VEVENT
END:VCALENDAR
