BEGIN:VCALENDAR
VERSION:2.0
PRODID:-//PYVOBJECT//NONSGML Version 0.9.9//EN
BEGIN:VTIMEZONE
TZID:CET
BEGIN:STANDARD
DTSTART:20001029T040000
RRULE:FREQ=YEARLY;BYDAY=-1SU;BYMONTH=10
TZNAME:CET
TZOFFSETFROM:+0200
TZOFFSETTO:+0100
END:STANDARD
BEGIN:DAYLIGHT
DTSTART:20000326T030000
RRULE:FREQ=YEARLY;BYDAY=-1SU;BYMONTH=3
TZNAME:CEST
TZOFFSETFROM:+0100
TZOFFSETTO:+0200
END:DAYLIGHT
END:VTIMEZONE
BEGIN:VEVENT
UID:event-674
DTSTART;TZID=CET:20250426T154500
DTEND;TZID=CET:20250426T190000
DESCRIPTION:VSA-exklusive Führung in München: "ECCENTRIC. Ästhetik der F
 reiheit" - Pinakothek der Moderne - Veranstaltung
DTSTAMP:20260422T210253Z
GEO:
LOCATION:Barer Straße 40\, 80333 München
SUMMARY:VSA-exklusive Führung in München: "ECCENTRIC. Ästhetik der Freih
 eit" - Pinakothek der Moderne
URL:https://vsa-freiheit.org/events/674/
END:VEVENT
END:VCALENDAR
