BEGIN:VCALENDAR
VERSION:2.0
PRODID:-//PYVOBJECT//NONSGML Version 0.9.9//EN
BEGIN:VTIMEZONE
TZID:CET
BEGIN:STANDARD
DTSTART:20001029T040000
RRULE:FREQ=YEARLY;BYDAY=-1SU;BYMONTH=10
TZNAME:CET
TZOFFSETFROM:+0200
TZOFFSETTO:+0100
END:STANDARD
BEGIN:DAYLIGHT
DTSTART:20000326T030000
RRULE:FREQ=YEARLY;BYDAY=-1SU;BYMONTH=3
TZNAME:CEST
TZOFFSETFROM:+0100
TZOFFSETTO:+0200
END:DAYLIGHT
END:VTIMEZONE
BEGIN:VEVENT
UID:event-678
DTSTART;TZID=CET:20250509T150000
DTEND;TZID=CET:20250509T180000
DESCRIPTION:Erfolgreich Durchstarten nach dem Studium – wie bereite ich m
 ir vor? Bewerbungstraining mit McKinsey & Company - Veranstaltung
DTSTAMP:20260422T210330Z
GEO:
LOCATION:\,  
SUMMARY:Erfolgreich Durchstarten nach dem Studium – wie bereite ich mir v
 or? Bewerbungstraining mit McKinsey & Company
URL:https://vsa-freiheit.org/events/678/
END:VEVENT
END:VCALENDAR
