BEGIN:VCALENDAR
VERSION:2.0
PRODID:-//PYVOBJECT//NONSGML Version 0.9.9//EN
BEGIN:VTIMEZONE
TZID:CET
BEGIN:STANDARD
DTSTART:20001029T040000
RRULE:FREQ=YEARLY;BYDAY=-1SU;BYMONTH=10
TZNAME:CET
TZOFFSETFROM:+0200
TZOFFSETTO:+0100
END:STANDARD
BEGIN:DAYLIGHT
DTSTART:20000326T030000
RRULE:FREQ=YEARLY;BYDAY=-1SU;BYMONTH=3
TZNAME:CEST
TZOFFSETFROM:+0100
TZOFFSETTO:+0200
END:DAYLIGHT
END:VTIMEZONE
BEGIN:VEVENT
UID:event-686
DTSTART;TZID=CET:20250622T110000
DTEND;TZID=CET:20250622T150000
DESCRIPTION:Wanderung auf die Tregler Alm (Mangfallgebirge) - VSA Family Ev
 ent - Veranstaltung
DTSTAMP:20260422T210201Z
GEO:
LOCATION:Tregler Alm\, 83075 Bad Feilnbach
SUMMARY:Wanderung auf die Tregler Alm (Mangfallgebirge) - VSA Family Event
URL:https://vsa-freiheit.org/events/686/
END:VEVENT
END:VCALENDAR
