BEGIN:VCALENDAR
VERSION:2.0
PRODID:-//PYVOBJECT//NONSGML Version 0.9.9//EN
BEGIN:VTIMEZONE
TZID:CET
BEGIN:STANDARD
DTSTART:20001029T040000
RRULE:FREQ=YEARLY;BYDAY=-1SU;BYMONTH=10
TZNAME:CET
TZOFFSETFROM:+0200
TZOFFSETTO:+0100
END:STANDARD
BEGIN:DAYLIGHT
DTSTART:20000326T030000
RRULE:FREQ=YEARLY;BYDAY=-1SU;BYMONTH=3
TZNAME:CEST
TZOFFSETFROM:+0100
TZOFFSETTO:+0200
END:DAYLIGHT
END:VTIMEZONE
BEGIN:VEVENT
UID:event-689
DTSTART;TZID=CET:20250518T110000
DTEND;TZID=CET:20250518T133000
DESCRIPTION:Leider abgesagt: VSA-Brunch nach dem Bundesparteitag - Stammtis
 ch
DTSTAMP:20260422T210242Z
GEO:
LOCATION:Brunnenstraße 49\, 10115 Berlin
SUMMARY:Leider abgesagt: VSA-Brunch nach dem Bundesparteitag
URL:https://vsa-freiheit.org/events/689/
END:VEVENT
END:VCALENDAR
