BEGIN:VCALENDAR
VERSION:2.0
PRODID:-//PYVOBJECT//NONSGML Version 0.9.9//EN
BEGIN:VTIMEZONE
TZID:CET
BEGIN:STANDARD
DTSTART:20001029T040000
RRULE:FREQ=YEARLY;BYDAY=-1SU;BYMONTH=10
TZNAME:CET
TZOFFSETFROM:+0200
TZOFFSETTO:+0100
END:STANDARD
BEGIN:DAYLIGHT
DTSTART:20000326T030000
RRULE:FREQ=YEARLY;BYDAY=-1SU;BYMONTH=3
TZNAME:CEST
TZOFFSETFROM:+0100
TZOFFSETTO:+0200
END:DAYLIGHT
END:VTIMEZONE
BEGIN:VEVENT
UID:event-692
DTSTART;TZID=CET:20250823T180000
DTEND;TZID=CET:20250823T220000
DESCRIPTION:VSA Sommerevent 2025 in Leipzig - Veranstaltung
DTSTAMP:20260422T193137Z
GEO:
LOCATION:\,  Leipzig
SUMMARY:VSA Sommerevent 2025 in Leipzig
URL:https://vsa-freiheit.org/events/692/
END:VEVENT
END:VCALENDAR
