BEGIN:VCALENDAR
VERSION:2.0
PRODID:-//PYVOBJECT//NONSGML Version 0.9.9//EN
BEGIN:VTIMEZONE
TZID:CET
BEGIN:STANDARD
DTSTART:20001029T040000
RRULE:FREQ=YEARLY;BYDAY=-1SU;BYMONTH=10
TZNAME:CET
TZOFFSETFROM:+0200
TZOFFSETTO:+0100
END:STANDARD
BEGIN:DAYLIGHT
DTSTART:20000326T030000
RRULE:FREQ=YEARLY;BYDAY=-1SU;BYMONTH=3
TZNAME:CEST
TZOFFSETFROM:+0100
TZOFFSETTO:+0200
END:DAYLIGHT
END:VTIMEZONE
BEGIN:VEVENT
UID:event-693
DTSTART;TZID=CET:20250524T203000
DTEND;TZID=CET:20250524T223000
DESCRIPTION:Bildung trifft Begegnung: Mobilität neu denken - Stammtisch
DTSTAMP:20260422T210011Z
GEO:
LOCATION:Hochbrückenstraße 3\, 80331 München
SUMMARY:Bildung trifft Begegnung: Mobilität neu denken
URL:https://vsa-freiheit.org/events/693/
END:VEVENT
END:VCALENDAR
