BEGIN:VCALENDAR
VERSION:2.0
PRODID:-//PYVOBJECT//NONSGML Version 0.9.9//EN
BEGIN:VTIMEZONE
TZID:CET
BEGIN:STANDARD
DTSTART:20001029T040000
RRULE:FREQ=YEARLY;BYDAY=-1SU;BYMONTH=10
TZNAME:CET
TZOFFSETFROM:+0200
TZOFFSETTO:+0100
END:STANDARD
BEGIN:DAYLIGHT
DTSTART:20000326T030000
RRULE:FREQ=YEARLY;BYDAY=-1SU;BYMONTH=3
TZNAME:CEST
TZOFFSETFROM:+0100
TZOFFSETTO:+0200
END:DAYLIGHT
END:VTIMEZONE
BEGIN:VEVENT
UID:event-699
DTSTART;TZID=CET:20250625T190000
DTEND;TZID=CET:20250625T220000
DESCRIPTION:Sommertreffen im Uni-Sommergarten - Stammtisch
DTSTAMP:20260422T210134Z
GEO:50.1279794,8.6704824
LOCATION:Fürstenbergstr. 200\, 60323 Frankfurt
SUMMARY:Sommertreffen im Uni-Sommergarten
URL:https://vsa-freiheit.org/events/699/
END:VEVENT
END:VCALENDAR
