BEGIN:VCALENDAR
VERSION:2.0
PRODID:-//PYVOBJECT//NONSGML Version 0.9.9//EN
BEGIN:VTIMEZONE
TZID:CET
BEGIN:STANDARD
DTSTART:20001029T040000
RRULE:FREQ=YEARLY;BYDAY=-1SU;BYMONTH=10
TZNAME:CET
TZOFFSETFROM:+0200
TZOFFSETTO:+0100
END:STANDARD
BEGIN:DAYLIGHT
DTSTART:20000326T030000
RRULE:FREQ=YEARLY;BYDAY=-1SU;BYMONTH=3
TZNAME:CEST
TZOFFSETFROM:+0100
TZOFFSETTO:+0200
END:DAYLIGHT
END:VTIMEZONE
BEGIN:VEVENT
UID:event-700
DTSTART;TZID=CET:20250716T183000
DTEND;TZID=CET:20250716T220000
DESCRIPTION:Münchner Juli-Stammtisch - Stammtisch
DTSTAMP:20260422T193234Z
GEO:48.134042,11.565191
LOCATION:Pettenkoferstraße 2\, 80336 München
SUMMARY:Münchner Juli-Stammtisch
URL:https://vsa-freiheit.org/events/700/
END:VEVENT
END:VCALENDAR
