BEGIN:VCALENDAR
VERSION:2.0
PRODID:-//PYVOBJECT//NONSGML Version 0.9.9//EN
BEGIN:VTIMEZONE
TZID:CET
BEGIN:STANDARD
DTSTART:20001029T040000
RRULE:FREQ=YEARLY;BYDAY=-1SU;BYMONTH=10
TZNAME:CET
TZOFFSETFROM:+0200
TZOFFSETTO:+0100
END:STANDARD
BEGIN:DAYLIGHT
DTSTART:20000326T030000
RRULE:FREQ=YEARLY;BYDAY=-1SU;BYMONTH=3
TZNAME:CEST
TZOFFSETFROM:+0100
TZOFFSETTO:+0200
END:DAYLIGHT
END:VTIMEZONE
BEGIN:VEVENT
UID:event-702
DTSTART;TZID=CET:20250808T180000
DTEND;TZID=CET:20250808T230000
DESCRIPTION:Aufbruch Liberalismus: Netzwerktreffen der (Alt-)Stipendiaten u
 nd des Landesbüros NRW - Veranstaltung
DTSTAMP:20260422T193130Z
GEO:
LOCATION:\,  
SUMMARY:Aufbruch Liberalismus: Netzwerktreffen der (Alt-)Stipendiaten und d
 es Landesbüros NRW
URL:https://vsa-freiheit.org/events/702/
END:VEVENT
END:VCALENDAR
