BEGIN:VCALENDAR
VERSION:2.0
PRODID:-//PYVOBJECT//NONSGML Version 0.9.9//EN
BEGIN:VTIMEZONE
TZID:CET
BEGIN:STANDARD
DTSTART:20001029T040000
RRULE:FREQ=YEARLY;BYDAY=-1SU;BYMONTH=10
TZNAME:CET
TZOFFSETFROM:+0200
TZOFFSETTO:+0100
END:STANDARD
BEGIN:DAYLIGHT
DTSTART:20000326T030000
RRULE:FREQ=YEARLY;BYDAY=-1SU;BYMONTH=3
TZNAME:CEST
TZOFFSETFROM:+0100
TZOFFSETTO:+0200
END:DAYLIGHT
END:VTIMEZONE
BEGIN:VEVENT
UID:event-705
DTSTART;TZID=CET:20250918T100000
DTEND;TZID=CET:20250919T120000
DESCRIPTION:Bereit\, die Zukunft zu gestalten? BCG-Event für Stipendiat:in
 nen - Veranstaltung
DTSTAMP:20260422T193104Z
GEO:
LOCATION:\,  
SUMMARY:Bereit\, die Zukunft zu gestalten? BCG-Event für Stipendiat:innen
URL:https://vsa-freiheit.org/events/705/
END:VEVENT
END:VCALENDAR
