BEGIN:VCALENDAR
VERSION:2.0
PRODID:-//PYVOBJECT//NONSGML Version 0.9.9//EN
BEGIN:VTIMEZONE
TZID:CET
BEGIN:STANDARD
DTSTART:20001029T040000
RRULE:FREQ=YEARLY;BYDAY=-1SU;BYMONTH=10
TZNAME:CET
TZOFFSETFROM:+0200
TZOFFSETTO:+0100
END:STANDARD
BEGIN:DAYLIGHT
DTSTART:20000326T030000
RRULE:FREQ=YEARLY;BYDAY=-1SU;BYMONTH=3
TZNAME:CEST
TZOFFSETFROM:+0100
TZOFFSETTO:+0200
END:DAYLIGHT
END:VTIMEZONE
BEGIN:VEVENT
UID:event-710
DTSTART;TZID=CET:20250925T130000
DTEND;TZID=CET:20250925T143000
DESCRIPTION:VSA Legal Lunch München - Veranstaltung
DTSTAMP:20260422T193105Z
GEO:48.1377312,11.568387
LOCATION:Herzogspitalstraße 8\, 80331 München
SUMMARY:VSA Legal Lunch München
URL:https://vsa-freiheit.org/events/710/
END:VEVENT
END:VCALENDAR
