BEGIN:VCALENDAR
VERSION:2.0
PRODID:-//PYVOBJECT//NONSGML Version 0.9.9//EN
BEGIN:VTIMEZONE
TZID:CET
BEGIN:STANDARD
DTSTART:20001029T040000
RRULE:FREQ=YEARLY;BYDAY=-1SU;BYMONTH=10
TZNAME:CET
TZOFFSETFROM:+0200
TZOFFSETTO:+0100
END:STANDARD
BEGIN:DAYLIGHT
DTSTART:20000326T030000
RRULE:FREQ=YEARLY;BYDAY=-1SU;BYMONTH=3
TZNAME:CEST
TZOFFSETFROM:+0100
TZOFFSETTO:+0200
END:DAYLIGHT
END:VTIMEZONE
BEGIN:VEVENT
UID:event-715
DTSTART;TZID=CET:20251119T090000
DTEND;TZID=CET:20251121T100000
DESCRIPTION:BCG Event für Frauen – Strategize Your Life - Veranstaltung
DTSTAMP:20260422T163959Z
GEO:
LOCATION:\,  
SUMMARY:BCG Event für Frauen – Strategize Your Life
URL:https://vsa-freiheit.org/events/715/
END:VEVENT
END:VCALENDAR
