BEGIN:VCALENDAR
VERSION:2.0
PRODID:-//PYVOBJECT//NONSGML Version 0.9.9//EN
BEGIN:VTIMEZONE
TZID:CET
BEGIN:STANDARD
DTSTART:20001029T040000
RRULE:FREQ=YEARLY;BYDAY=-1SU;BYMONTH=10
TZNAME:CET
TZOFFSETFROM:+0200
TZOFFSETTO:+0100
END:STANDARD
BEGIN:DAYLIGHT
DTSTART:20000326T030000
RRULE:FREQ=YEARLY;BYDAY=-1SU;BYMONTH=3
TZNAME:CEST
TZOFFSETFROM:+0100
TZOFFSETTO:+0200
END:DAYLIGHT
END:VTIMEZONE
BEGIN:VEVENT
UID:event-716
DTSTART;TZID=CET:20251122T104500
DTEND;TZID=CET:20251122T130000
DESCRIPTION:Tunnel in die Freiheit - Stammtisch
DTSTAMP:20260422T175809Z
GEO:52.5507307,13.3843587
LOCATION:Badstraße Ecke Hochstraße\, 13357 Berlin
SUMMARY:Tunnel in die Freiheit
URL:https://vsa-freiheit.org/events/716/
END:VEVENT
END:VCALENDAR
