BEGIN:VCALENDAR
VERSION:2.0
PRODID:-//PYVOBJECT//NONSGML Version 0.9.9//EN
BEGIN:VTIMEZONE
TZID:CET
BEGIN:STANDARD
DTSTART:20001029T040000
RRULE:FREQ=YEARLY;BYDAY=-1SU;BYMONTH=10
TZNAME:CET
TZOFFSETFROM:+0200
TZOFFSETTO:+0100
END:STANDARD
BEGIN:DAYLIGHT
DTSTART:20000326T030000
RRULE:FREQ=YEARLY;BYDAY=-1SU;BYMONTH=3
TZNAME:CEST
TZOFFSETFROM:+0100
TZOFFSETTO:+0200
END:DAYLIGHT
END:VTIMEZONE
BEGIN:VEVENT
UID:event-717
DTSTART;TZID=CET:20251118T190000
DTEND;TZID=CET:20251118T220000
DESCRIPTION:Münchner Stammtisch im November - Stammtisch
DTSTAMP:20260422T193311Z
GEO:48.1280363,11.5933188
LOCATION:Franziskanerstraße 4\, 81669 München
SUMMARY:Münchner Stammtisch im November
URL:https://vsa-freiheit.org/events/717/
END:VEVENT
END:VCALENDAR
