BEGIN:VCALENDAR
VERSION:2.0
PRODID:-//PYVOBJECT//NONSGML Version 0.9.9//EN
BEGIN:VTIMEZONE
TZID:CET
BEGIN:STANDARD
DTSTART:20001029T040000
RRULE:FREQ=YEARLY;BYDAY=-1SU;BYMONTH=10
TZNAME:CET
TZOFFSETFROM:+0200
TZOFFSETTO:+0100
END:STANDARD
BEGIN:DAYLIGHT
DTSTART:20000326T030000
RRULE:FREQ=YEARLY;BYDAY=-1SU;BYMONTH=3
TZNAME:CEST
TZOFFSETFROM:+0100
TZOFFSETTO:+0200
END:DAYLIGHT
END:VTIMEZONE
BEGIN:VEVENT
UID:event-718
DTSTART;TZID=CET:20251122T183000
DTEND;TZID=CET:20251123T030000
DESCRIPTION:Liberaler Kultursalon in Berlin // Zwischenzeit - Veranstaltung
DTSTAMP:20260422T175741Z
GEO:52.5301255,13.4055082
LOCATION:\, 10119 Berlin
SUMMARY:Liberaler Kultursalon in Berlin // Zwischenzeit
URL:https://vsa-freiheit.org/events/718/
END:VEVENT
END:VCALENDAR
