BEGIN:VCALENDAR
VERSION:2.0
PRODID:-//PYVOBJECT//NONSGML Version 0.9.9//EN
BEGIN:VTIMEZONE
TZID:CET
BEGIN:STANDARD
DTSTART:20001029T040000
RRULE:FREQ=YEARLY;BYDAY=-1SU;BYMONTH=10
TZNAME:CET
TZOFFSETFROM:+0200
TZOFFSETTO:+0100
END:STANDARD
BEGIN:DAYLIGHT
DTSTART:20000326T030000
RRULE:FREQ=YEARLY;BYDAY=-1SU;BYMONTH=3
TZNAME:CEST
TZOFFSETFROM:+0100
TZOFFSETTO:+0200
END:DAYLIGHT
END:VTIMEZONE
BEGIN:VEVENT
UID:event-719
DTSTART;TZID=CET:20251116T160000
DTEND;TZID=CET:20251116T230000
DESCRIPTION:Metropolis im Babylon Berlin // Live-Orchester - Veranstaltung
DTSTAMP:20260422T193337Z
GEO:52.5258989,13.4114358
LOCATION:Babylon Berlin\, 10178 Berlin
SUMMARY:Metropolis im Babylon Berlin // Live-Orchester
URL:https://vsa-freiheit.org/events/719/
END:VEVENT
END:VCALENDAR
