BEGIN:VCALENDAR
VERSION:2.0
PRODID:-//PYVOBJECT//NONSGML Version 0.9.9//EN
BEGIN:VTIMEZONE
TZID:CET
BEGIN:STANDARD
DTSTART:20001029T040000
RRULE:FREQ=YEARLY;BYDAY=-1SU;BYMONTH=10
TZNAME:CET
TZOFFSETFROM:+0200
TZOFFSETTO:+0100
END:STANDARD
BEGIN:DAYLIGHT
DTSTART:20000326T030000
RRULE:FREQ=YEARLY;BYDAY=-1SU;BYMONTH=3
TZNAME:CEST
TZOFFSETFROM:+0100
TZOFFSETTO:+0200
END:DAYLIGHT
END:VTIMEZONE
BEGIN:VEVENT
UID:event-723
DTSTART;TZID=CET:20251125T190000
DTEND;TZID=CET:20251125T230000
DESCRIPTION:ACHTUNG ABGESAGT! Theaterbesuch: "Was ihr wollt" - Veranstaltun
 g
DTSTAMP:20260422T175036Z
GEO:48.1236634,11.5558987
LOCATION:Tumblingerstraße 29\, 80337 München
SUMMARY:ACHTUNG ABGESAGT! Theaterbesuch: "Was ihr wollt"
URL:https://vsa-freiheit.org/events/723/
END:VEVENT
END:VCALENDAR
