BEGIN:VCALENDAR
VERSION:2.0
PRODID:-//PYVOBJECT//NONSGML Version 0.9.9//EN
BEGIN:VTIMEZONE
TZID:CET
BEGIN:STANDARD
DTSTART:20001029T040000
RRULE:FREQ=YEARLY;BYDAY=-1SU;BYMONTH=10
TZNAME:CET
TZOFFSETFROM:+0200
TZOFFSETTO:+0100
END:STANDARD
BEGIN:DAYLIGHT
DTSTART:20000326T030000
RRULE:FREQ=YEARLY;BYDAY=-1SU;BYMONTH=3
TZNAME:CEST
TZOFFSETFROM:+0100
TZOFFSETTO:+0200
END:DAYLIGHT
END:VTIMEZONE
BEGIN:VEVENT
UID:event-725
DTSTART;TZID=CET:20251215T183000
DTEND;TZID=CET:20251215T231500
DESCRIPTION:Volkstheater: Der Brandner Kaspar und das ewig' Leben - Veranst
 altung
DTSTAMP:20260422T173926Z
GEO:48.1236634,11.5558987
LOCATION:Tumblingerstraße 29\, 80337 München
SUMMARY:Volkstheater: Der Brandner Kaspar und das ewig' Leben
URL:https://vsa-freiheit.org/events/725/
END:VEVENT
END:VCALENDAR
