BEGIN:VCALENDAR
VERSION:2.0
PRODID:-//PYVOBJECT//NONSGML Version 0.9.9//EN
BEGIN:VTIMEZONE
TZID:CET
BEGIN:STANDARD
DTSTART:20001029T040000
RRULE:FREQ=YEARLY;BYDAY=-1SU;BYMONTH=10
TZNAME:CET
TZOFFSETFROM:+0200
TZOFFSETTO:+0100
END:STANDARD
BEGIN:DAYLIGHT
DTSTART:20000326T030000
RRULE:FREQ=YEARLY;BYDAY=-1SU;BYMONTH=3
TZNAME:CEST
TZOFFSETFROM:+0100
TZOFFSETTO:+0200
END:DAYLIGHT
END:VTIMEZONE
BEGIN:VEVENT
UID:event-728
DTSTART;TZID=CET:20251127T183000
DTEND;TZID=CET:20251127T200000
DESCRIPTION:Weihnachts-Stammtisch der FNF Leipzig/Halle - Stammtisch
DTSTAMP:20260422T175844Z
GEO:51.3400722,12.3758144
LOCATION:Naschmarkt 1\, 04109 Leipzig
SUMMARY:Weihnachts-Stammtisch der FNF Leipzig/Halle
URL:https://vsa-freiheit.org/events/728/
END:VEVENT
END:VCALENDAR
