BEGIN:VCALENDAR
VERSION:2.0
PRODID:-//PYVOBJECT//NONSGML Version 0.9.9//EN
BEGIN:VTIMEZONE
TZID:CET
BEGIN:STANDARD
DTSTART:20001029T040000
RRULE:FREQ=YEARLY;BYDAY=-1SU;BYMONTH=10
TZNAME:CET
TZOFFSETFROM:+0200
TZOFFSETTO:+0100
END:STANDARD
BEGIN:DAYLIGHT
DTSTART:20000326T030000
RRULE:FREQ=YEARLY;BYDAY=-1SU;BYMONTH=3
TZNAME:CEST
TZOFFSETFROM:+0100
TZOFFSETTO:+0200
END:DAYLIGHT
END:VTIMEZONE
BEGIN:VEVENT
UID:event-731
DTSTART;TZID=CET:20260126T190000
DTEND;TZID=CET:20260126T223000
DESCRIPTION:Münchner Stammtisch im Januar - Stammtisch
DTSTAMP:20260422T182207Z
GEO:48.128001,11.5933529
LOCATION:Franziskanerstraße 4\, 81669 München
SUMMARY:Münchner Stammtisch im Januar
URL:https://vsa-freiheit.org/events/731/
END:VEVENT
END:VCALENDAR
