BEGIN:VCALENDAR
VERSION:2.0
PRODID:-//PYVOBJECT//NONSGML Version 0.9.9//EN
BEGIN:VTIMEZONE
TZID:CET
BEGIN:STANDARD
DTSTART:20001029T040000
RRULE:FREQ=YEARLY;BYDAY=-1SU;BYMONTH=10
TZNAME:CET
TZOFFSETFROM:+0200
TZOFFSETTO:+0100
END:STANDARD
BEGIN:DAYLIGHT
DTSTART:20000326T030000
RRULE:FREQ=YEARLY;BYDAY=-1SU;BYMONTH=3
TZNAME:CEST
TZOFFSETFROM:+0100
TZOFFSETTO:+0200
END:DAYLIGHT
END:VTIMEZONE
BEGIN:VEVENT
UID:event-732
DTSTART;TZID=CET:20260212T193000
DTEND;TZID=CET:20260212T210000
DESCRIPTION:Stammtisch der Stips und Altstips Leipzig/Halle - Stammtisch
DTSTAMP:20260422T175810Z
GEO:51.3332957,12.3749475
LOCATION:Ernst-Schneller-Straße 6\, 04107 Leipzig
SUMMARY:Stammtisch der Stips und Altstips Leipzig/Halle
URL:https://vsa-freiheit.org/events/732/
END:VEVENT
END:VCALENDAR
