BEGIN:VCALENDAR
VERSION:2.0
PRODID:-//PYVOBJECT//NONSGML Version 0.9.9//EN
BEGIN:VTIMEZONE
TZID:CET
BEGIN:STANDARD
DTSTART:20001029T040000
RRULE:FREQ=YEARLY;BYDAY=-1SU;BYMONTH=10
TZNAME:CET
TZOFFSETFROM:+0200
TZOFFSETTO:+0100
END:STANDARD
BEGIN:DAYLIGHT
DTSTART:20000326T030000
RRULE:FREQ=YEARLY;BYDAY=-1SU;BYMONTH=3
TZNAME:CEST
TZOFFSETFROM:+0100
TZOFFSETTO:+0200
END:DAYLIGHT
END:VTIMEZONE
BEGIN:VEVENT
UID:event-736
DTSTART;TZID=CET:20260212T180000
DTEND;TZID=CET:20260212T223000
DESCRIPTION:MSC-Begleitprogramm: Panel im Amerikahaus + Ausklang danach (12
 .02.) - Sonstiges
DTSTAMP:20260422T175741Z
GEO:48.1443541,11.5679055
LOCATION:Karolinenpl. 3\, 80333 München
SUMMARY:MSC-Begleitprogramm: Panel im Amerikahaus + Ausklang danach (12.02.
 )
URL:https://vsa-freiheit.org/events/736/
END:VEVENT
END:VCALENDAR
