BEGIN:VCALENDAR
VERSION:2.0
PRODID:-//PYVOBJECT//NONSGML Version 0.9.9//EN
BEGIN:VTIMEZONE
TZID:CET
BEGIN:STANDARD
DTSTART:20001029T040000
RRULE:FREQ=YEARLY;BYDAY=-1SU;BYMONTH=10
TZNAME:CET
TZOFFSETFROM:+0200
TZOFFSETTO:+0100
END:STANDARD
BEGIN:DAYLIGHT
DTSTART:20000326T030000
RRULE:FREQ=YEARLY;BYDAY=-1SU;BYMONTH=3
TZNAME:CEST
TZOFFSETFROM:+0100
TZOFFSETTO:+0200
END:DAYLIGHT
END:VTIMEZONE
BEGIN:VEVENT
UID:event-747
DTSTART;TZID=CET:20260610T190000
DTEND;TZID=CET:20260610T200000
DESCRIPTION:Experts of Education: Was politische Bildungsarbeit erfolgreich
  macht - Bettina Solinger - Veranstaltung
DTSTAMP:20260422T160114Z
LOCATION:Die Veranstaltung wird online via Microsoft Teams stattfinden. Der
  Link wird in den kommenden Wochen veröffentlicht.
SUMMARY:Experts of Education: Was politische Bildungsarbeit erfolgreich mac
 ht - Bettina Solinger
URL:https://vsa-freiheit.org/events/747/
END:VEVENT
END:VCALENDAR
