BEGIN:VCALENDAR
VERSION:2.0
PRODID:-//PYVOBJECT//NONSGML Version 0.9.9//EN
BEGIN:VTIMEZONE
TZID:CET
BEGIN:STANDARD
DTSTART:20001029T040000
RRULE:FREQ=YEARLY;BYDAY=-1SU;BYMONTH=10
TZNAME:CET
TZOFFSETFROM:+0200
TZOFFSETTO:+0100
END:STANDARD
BEGIN:DAYLIGHT
DTSTART:20000326T030000
RRULE:FREQ=YEARLY;BYDAY=-1SU;BYMONTH=3
TZNAME:CEST
TZOFFSETFROM:+0100
TZOFFSETTO:+0200
END:DAYLIGHT
END:VTIMEZONE
BEGIN:VEVENT
UID:event-752
DESCRIPTION:BCG Event: The Power of You - Veranstaltung
DTSTAMP:20260422T141918Z
GEO:
LOCATION:\,  
SUMMARY:BCG Event: The Power of You
URL:https://vsa-freiheit.org/events/752/
END:VEVENT
BEGIN:VEVENT
UID:event-753
DTSTART;TZID=CET:20260503T174500
DTEND;TZID=CET:20260503T210000
DESCRIPTION:Aktuelle Perspektiven auf die Türkei - Austausch mit Aret Demi
 rci (FNF Istanbul) - Veranstaltung
DTSTAMP:20260422T141918Z
GEO:52.5273466,13.405597
LOCATION:Mulackstraße 29\, 10119 Berlin
SUMMARY:Aktuelle Perspektiven auf die Türkei - Austausch mit Aret Demirci 
 (FNF Istanbul)
URL:https://vsa-freiheit.org/events/753/
END:VEVENT
BEGIN:VEVENT
UID:event-751
DTSTART;TZID=CET:20260511T180000
DTEND;TZID=CET:20260511T210000
DESCRIPTION:VSA/FNF Düsseldorf: Stammtisch - Stammtisch
DTSTAMP:20260422T141918Z
GEO:51.2073882,6.7774375
LOCATION:Brunnenstraße 1\, 40223 Düsseldorf
SUMMARY:VSA/FNF Düsseldorf: Stammtisch
URL:https://vsa-freiheit.org/events/751/
END:VEVENT
BEGIN:VEVENT
UID:event-749
DTSTART;TZID=CET:20260523T120000
DTEND;TZID=CET:20260523T230000
DESCRIPTION:SAVE THE DATE: Vernetzungstreffen der Stips und Altstips in Lei
 pzig - Stammtisch
DTSTAMP:20260422T141918Z
GEO:51.3406321,12.3747329
LOCATION:\,  Leipzig
SUMMARY:SAVE THE DATE: Vernetzungstreffen der Stips und Altstips in Leipzig
URL:https://vsa-freiheit.org/events/749/
END:VEVENT
BEGIN:VEVENT
UID:event-747
DTSTART;TZID=CET:20260610T190000
DTEND;TZID=CET:20260610T200000
DESCRIPTION:Experts of Education: Was politische Bildungsarbeit erfolgreich
  macht - Bettina Solinger - Veranstaltung
DTSTAMP:20260422T141918Z
LOCATION:Die Veranstaltung wird online via Microsoft Teams stattfinden. Der
  Link wird in den kommenden Wochen veröffentlicht.
SUMMARY:Experts of Education: Was politische Bildungsarbeit erfolgreich mac
 ht - Bettina Solinger
URL:https://vsa-freiheit.org/events/747/
END:VEVENT
BEGIN:VEVENT
UID:event-750
DTSTART;TZID=CET:20260704T140000
DTEND;TZID=CET:20260704T220000
DESCRIPTION:SAVE THE DATE: Vernetzungstreffen beim Düsseldorfer Frankreich
 fest - Stammtisch
DTSTAMP:20260422T141918Z
GEO:51.2254018,6.7763137
LOCATION:\,  Düsseldorf
SUMMARY:SAVE THE DATE: Vernetzungstreffen beim Düsseldorfer Frankreichfest
URL:https://vsa-freiheit.org/events/750/
END:VEVENT
BEGIN:VEVENT
UID:event-735
DTSTART;TZID=CET:20261030T180000
DTEND;TZID=CET:20261101T150000
DESCRIPTION:Liberale Rechtstagung 2026 - Veranstaltung
DTSTAMP:20260422T141918Z
GEO:50.7041578,7.1401285
LOCATION:Langer Grabenweg 68\, 53175 Bonn
SUMMARY:Liberale Rechtstagung 2026
URL:https://vsa-freiheit.org/events/735/
END:VEVENT
END:VCALENDAR
